BEGIN:VCALENDAR
VERSION:2.0
PRODID:http://www.xn--pg-mlheim-krlich-5nb83b.de
BEGIN:VEVENT
UID:e15ec5b4-3f89-11f1-a3e9-0242ac11002b-1785585600000-de
DTSTAMP:20260424T030124Z
DTSTART:20260801T120000Z
DTEND:20260801T124500Z
SUMMARY;LANGUAGE=de:Trauung des Paares Jana Brachtendorf und  Sascha Krzeminitzki
END:VEVENT
END:VCALENDAR
