BEGIN:VCALENDAR
VERSION:2.0
PRODID:http://www.xn--pg-mlheim-krlich-5nb83b.de
BEGIN:VEVENT
UID:e0161908-3f89-11f1-a3e9-0242ac11002b-1785600000000-de
DTSTAMP:20260424T030122Z
DTSTART:20260801T160000Z
DTEND:20260801T164500Z
SUMMARY;LANGUAGE=de:Vorabendmesse
URL:http://www.xn--pg-mlheim-krlich-5nb83b.de/aktuelles/gottesdienste/gottesdienst/Vorabendmesse-2026.08.01/
END:VEVENT
END:VCALENDAR
